BEGIN:VCALENDAR
VERSION:2.0
PRODID:-//Murder Aboard the QE2 - ECPv6.15.20//NONSGML v1.0//EN
CALSCALE:GREGORIAN
METHOD:PUBLISH
X-ORIGINAL-URL:https://murderaboardtheqe2.com
X-WR-CALDESC:Events for Murder Aboard the QE2
REFRESH-INTERVAL;VALUE=DURATION:PT1H
X-Robots-Tag:noindex
X-PUBLISHED-TTL:PT1H
BEGIN:VTIMEZONE
TZID:America/Los_Angeles
BEGIN:DAYLIGHT
TZOFFSETFROM:-0800
TZOFFSETTO:-0700
TZNAME:PDT
DTSTART:20240310T100000
END:DAYLIGHT
BEGIN:STANDARD
TZOFFSETFROM:-0700
TZOFFSETTO:-0800
TZNAME:PST
DTSTART:20241103T090000
END:STANDARD
BEGIN:DAYLIGHT
TZOFFSETFROM:-0800
TZOFFSETTO:-0700
TZNAME:PDT
DTSTART:20250309T100000
END:DAYLIGHT
BEGIN:STANDARD
TZOFFSETFROM:-0700
TZOFFSETTO:-0800
TZNAME:PST
DTSTART:20251102T090000
END:STANDARD
BEGIN:DAYLIGHT
TZOFFSETFROM:-0800
TZOFFSETTO:-0700
TZNAME:PDT
DTSTART:20260308T100000
END:DAYLIGHT
BEGIN:STANDARD
TZOFFSETFROM:-0700
TZOFFSETTO:-0800
TZNAME:PST
DTSTART:20261101T090000
END:STANDARD
END:VTIMEZONE
BEGIN:VEVENT
DTSTART;TZID=America/Los_Angeles:20250517T100000
DTEND;TZID=America/Los_Angeles:20250517T160000
DTSTAMP:20260419T053219
CREATED:20250512T195546Z
LAST-MODIFIED:20250512T195546Z
UID:2252-1747476000-1747497600@murderaboardtheqe2.com
SUMMARY:Book Signing – Paseo Verde Library Local Author Showcase
DESCRIPTION:Am very honored to be part of the 7th Annual Paseo Verde Library Local Author Showcase. Gratitude to Markita Dawson and the staff of Paseo Verde Library for all the hard work they put forth in making this very special event happen. \nThis is an all day event\, and an absolute must for all book-lovers. \nI will be there during the morning session from 10.00 – 11.30 . In addition to my cozy mystery\,  Murder Aboard the Queen Elizabeth II\, I will be selling and signing copies of the  award-winning The Chapel of Eternal Love – Wedding Stories from Las Vegas\, the critically-acclaimed sequel\, Return to the Chapel of Eternal Love – Marriage Stories from Las Vegas\, my crime fiction novel\, the Readers Favorite 5-star rated\, Discreetly Yours\, my heartwarming\, Christmas novel\, Discovering the Christmas Spirit\, and my light-hearted paranormal\, Yours in Spirit. \nHoping to see you at this terrific annual event.
URL:https://murderaboardtheqe2.com/event/book-signing-paseo-verde-library-local-author-showcase-2/
LOCATION:NV
ATTACH;FMTTYPE=image/jpeg:https://murderaboardtheqe2.com/wp-content/uploads/2025/05/PaseoVerde20250517.jpg
END:VEVENT
END:VCALENDAR