BEGIN:VCALENDAR
VERSION:2.0
PRODID:-//Murder Aboard the QE2 - ECPv6.15.20//NONSGML v1.0//EN
CALSCALE:GREGORIAN
METHOD:PUBLISH
X-WR-CALNAME:Murder Aboard the QE2
X-ORIGINAL-URL:https://murderaboardtheqe2.com
X-WR-CALDESC:Events for Murder Aboard the QE2
REFRESH-INTERVAL;VALUE=DURATION:PT1H
X-Robots-Tag:noindex
X-PUBLISHED-TTL:PT1H
BEGIN:VTIMEZONE
TZID:America/Los_Angeles
BEGIN:DAYLIGHT
TZOFFSETFROM:-0800
TZOFFSETTO:-0700
TZNAME:PDT
DTSTART:20240310T100000
END:DAYLIGHT
BEGIN:STANDARD
TZOFFSETFROM:-0700
TZOFFSETTO:-0800
TZNAME:PST
DTSTART:20241103T090000
END:STANDARD
BEGIN:DAYLIGHT
TZOFFSETFROM:-0800
TZOFFSETTO:-0700
TZNAME:PDT
DTSTART:20250309T100000
END:DAYLIGHT
BEGIN:STANDARD
TZOFFSETFROM:-0700
TZOFFSETTO:-0800
TZNAME:PST
DTSTART:20251102T090000
END:STANDARD
BEGIN:DAYLIGHT
TZOFFSETFROM:-0800
TZOFFSETTO:-0700
TZNAME:PDT
DTSTART:20260308T100000
END:DAYLIGHT
BEGIN:STANDARD
TZOFFSETFROM:-0700
TZOFFSETTO:-0800
TZNAME:PST
DTSTART:20261101T090000
END:STANDARD
END:VTIMEZONE
BEGIN:VEVENT
DTSTART;TZID=America/Los_Angeles:20250918T100000
DTEND;TZID=America/Los_Angeles:20250918T110000
DTSTAMP:20260419T122212
CREATED:20250809T001531Z
LAST-MODIFIED:20250822T161155Z
UID:2290-1758189600-1758193200@murderaboardtheqe2.com
SUMMARY:Book Presentation and signing - Lumina Las Vegas
DESCRIPTION:I am so grateful for Life Enrichment Director\, Alyce Kincanon\, for asking me to speak to the senior residents at Lumina Las Vegas. \nI will be talking about my journey as an author\, as well my six novels\, Murder Aboard the Queen Elizabeth II; the award-winning\, The Chapel of Eternal Love – Wedding Stories from Las Vegas\, and the critically acclaimed sequel\, Return to the Chapel of Eternal Love – Marriage Stories from Las Vegas;  the crime fiction\, Discreetly Yours; the heartwarming\, Discovering the Christmas Spirit; and my latest novel\, the light-hearted paranormal\, Yours in Spirit. \nThank you for the invite\, Alyce. It will be a pleasure to meet your residents.
URL:https://murderaboardtheqe2.com/event/book-presentation-and-signing-lumina-las-vegas/
LOCATION:Lumina Las Vegas\, 2710 W. Charleston Blvd.\, Las Vegas\, NV\, 89107\, United States
ATTACH;FMTTYPE=image/jpeg:https://murderaboardtheqe2.com/wp-content/uploads/2025/08/Lumina.Flyer_.jpg
END:VEVENT
BEGIN:VEVENT
DTSTART;TZID=America/Los_Angeles:20250920T130000
DTEND;TZID=America/Los_Angeles:20250920T160000
DTSTAMP:20260419T122212
CREATED:20250805T054314Z
LAST-MODIFIED:20250805T054559Z
UID:2281-1758373200-1758384000@murderaboardtheqe2.com
SUMMARY:Book Signing - Barnes & Noble\, 2191 North Rainbow\, Las Vegas.
DESCRIPTION:Once again\, it will be a joy to return to Barnes & Noble on North Rainbow Blvd. in the Rainbow Promenade Shopping Center.  \nFor those who enjoy intrigue\, in addition to signing copies of the perfect curl-up-at-night cozy murder mystery\, Murder Aboard the Queen Elizabeth II\, I will also have on hand copies of my fictional crime mystery novel\, Discreetly Yours. \nOn the lighter side\, I am pleased to be signing\,  copies of the light-hearted paranormal\, Yours in Spirit\, as well the award-winning fictional Chapel of Eternal Love – Wedding Stories from Las Vegas and the critically acclaimed sequel\, Return to the Chapel of Eternal Love – Marriage Stories from Las Vegas.  \nI am also excited to be presenting my holiday fiction novel\, Discovering the Christmas Spirit\, a fun and heartwarming read any time of the year.  \nThanks to the event coordinator at this location\, Lacey\, for setting up this event. \nHope to see you all at the signing.
URL:https://murderaboardtheqe2.com/event/book-signing-barnes-noble-2191-north-rainbow-las-vegas/
LOCATION:Barnes & Noble – North Rainbow\, 2191 N. Rainbow Blvd.\,\, Las Vegas\, NV\, 89108\, United States
ATTACH;FMTTYPE=image/jpeg:https://murderaboardtheqe2.com/wp-content/uploads/2020/01/barnes_and_noble_logo2.jpg
END:VEVENT
BEGIN:VEVENT
DTSTART;TZID=America/Los_Angeles:20250927T110000
DTEND;TZID=America/Los_Angeles:20250927T140000
DTSTAMP:20260419T122212
CREATED:20250919T201322Z
LAST-MODIFIED:20250919T201322Z
UID:2315-1758970800-1758981600@murderaboardtheqe2.com
SUMMARY:Book Signing - Lumina State Fair - Las Vegas.
DESCRIPTION:I am so grateful for Life Enrichment Director\, Alyce Kincanon\, for inviting me to have a table at the Lumina State Fair Las Vegas. \nI will be selling and signing copies of my six novels\, Murder Aboard the Queen Elizabeth II; the award-winning\, The Chapel of Eternal Love – Wedding Stories from Las Vegas\, and the critically acclaimed sequel\, Return to the Chapel of Eternal Love – Marriage Stories from Las Vegas;  the crime fiction\, Discreetly Yours; the heartwarming\, Discovering the Christmas Spirit; and my latest novel\, the light-hearted paranormal\, Yours in Spirit. \nThank you for the invite\, Alyce. I am excited to participate in this fun event. Hope to see some of my readers there.
URL:https://murderaboardtheqe2.com/event/book-signing-lumina-state-fair-las-vegas/
LOCATION:Lumina Las Vegas\, 2710 W. Charleston Blvd.\, Las Vegas\, NV\, 89107\, United States
ATTACH;FMTTYPE=image/png:https://murderaboardtheqe2.com/wp-content/uploads/2025/09/Lumina-State-Fair-Flyer-1.png
END:VEVENT
END:VCALENDAR